BEGIN:VCALENDAR
VERSION:2.0
PRODID:-//Seniorenrat der Stadt Ludwigshafen e.V. - ECPv5.8.2//NONSGML v1.0//EN
CALSCALE:GREGORIAN
METHOD:PUBLISH
X-WR-CALNAME:Seniorenrat der Stadt Ludwigshafen e.V.
X-ORIGINAL-URL:http://www.seniorenrat-ludwigshafen.de
X-WR-CALDESC:Veranstaltungen für Seniorenrat der Stadt Ludwigshafen e.V.
BEGIN:VTIMEZONE
TZID:Europe/Berlin
BEGIN:DAYLIGHT
TZOFFSETFROM:+0100
TZOFFSETTO:+0200
TZNAME:CEST
DTSTART:20240331T010000
END:DAYLIGHT
BEGIN:STANDARD
TZOFFSETFROM:+0200
TZOFFSETTO:+0100
TZNAME:CET
DTSTART:20241027T010000
END:STANDARD
END:VTIMEZONE
BEGIN:VEVENT
DTSTART;TZID=Europe/Berlin:20240507T150000
DTEND;TZID=Europe/Berlin:20240507T170000
DTSTAMP:20260421T110856
CREATED:20240130T111826Z
LAST-MODIFIED:20240130T111826Z
UID:2467-1715094000-1715101200@www.seniorenrat-ludwigshafen.de
SUMMARY:Beratungen zur PV
DESCRIPTION:
URL:http://www.seniorenrat-ludwigshafen.de/event/beratungen-zur-pv-2/
LOCATION:Vitalzentrum Oggersheim\, Raiffeisenstraße 24\, Ludwigshafen am Rhein\, 67071
ORGANIZER;CN="Seniorenrat%20Ludwigshafen":MAILTO:info@seniorenrat-ludwigshafen.de
END:VEVENT
END:VCALENDAR