BEGIN:VCALENDAR
VERSION:2.0
PRODID:-//Seniorenrat der Stadt Ludwigshafen e.V. - ECPv5.8.2//NONSGML v1.0//EN
CALSCALE:GREGORIAN
METHOD:PUBLISH
X-WR-CALNAME:Seniorenrat der Stadt Ludwigshafen e.V.
X-ORIGINAL-URL:http://www.seniorenrat-ludwigshafen.de
X-WR-CALDESC:Veranstaltungen für Seniorenrat der Stadt Ludwigshafen e.V.
BEGIN:VTIMEZONE
TZID:Europe/Berlin
BEGIN:DAYLIGHT
TZOFFSETFROM:+0100
TZOFFSETTO:+0200
TZNAME:CEST
DTSTART:20220327T010000
END:DAYLIGHT
BEGIN:STANDARD
TZOFFSETFROM:+0200
TZOFFSETTO:+0100
TZNAME:CET
DTSTART:20221030T010000
END:STANDARD
END:VTIMEZONE
BEGIN:VEVENT
DTSTART;TZID=Europe/Berlin:20221018T160000
DTEND;TZID=Europe/Berlin:20221018T173000
DTSTAMP:20260421T140522
CREATED:20220825T103916Z
LAST-MODIFIED:20220825T204947Z
UID:1947-1666108800-1666114200@www.seniorenrat-ludwigshafen.de
SUMMARY:Nein heißt Nein
DESCRIPTION:4-tägig\, 4.10.\, 11.10.\,18\,10.\,25.10. Kosten: insgesamt 25 € \n– Informationen zum Thema Gewalt gegen Senioren\n– Erkennen von Gefahrensituationen\n– Wirkung der Körpersprache\n– Einsatz der Stimme\n– Erlernen von effektiven Techniken zur Abwehr von Angriffen\n– Einsatz von alltäglichen Gegenständen zur Selbstverteidigung\n– Verletzungspunkte am menschlichen Körper\n– Vortrag des Polizeipräsidiums Rheinpfalz – Zentrale Prävention
URL:http://www.seniorenrat-ludwigshafen.de/event/nein-heisst-nein-10/
LOCATION:ESV Eisenbahnersportverein\, Oskar-Vongerichten-Str.\, Ludwigshafen\, Rheinland-Pfalz\, 67061\, Deutschland
ATTACH;FMTTYPE=image/png:http://www.seniorenrat-ludwigshafen.de/wordpress/wp-content/uploads/2022/08/FlyerSmall.png
ORGANIZER;CN="Seniorenrat%20Ludwigshafen":MAILTO:info@seniorenrat-ludwigshafen.de
END:VEVENT
END:VCALENDAR