BEGIN:VCALENDAR
VERSION:2.0
PRODID:-//Seniorenrat der Stadt Ludwigshafen e.V. - ECPv5.8.2//NONSGML v1.0//EN
CALSCALE:GREGORIAN
METHOD:PUBLISH
X-WR-CALNAME:Seniorenrat der Stadt Ludwigshafen e.V.
X-ORIGINAL-URL:http://www.seniorenrat-ludwigshafen.de
X-WR-CALDESC:Veranstaltungen für Seniorenrat der Stadt Ludwigshafen e.V.
BEGIN:VTIMEZONE
TZID:Europe/Berlin
BEGIN:DAYLIGHT
TZOFFSETFROM:+0100
TZOFFSETTO:+0200
TZNAME:CEST
DTSTART:20220327T010000
END:DAYLIGHT
BEGIN:STANDARD
TZOFFSETFROM:+0200
TZOFFSETTO:+0100
TZNAME:CET
DTSTART:20221030T010000
END:STANDARD
END:VTIMEZONE
BEGIN:VEVENT
DTSTART;TZID=Europe/Berlin:20221009T143000
DTEND;TZID=Europe/Berlin:20221009T180000
DTSTAMP:20260421T142456
CREATED:20220819T132543Z
LAST-MODIFIED:20220825T205940Z
UID:1907-1665325800-1665338400@www.seniorenrat-ludwigshafen.de
SUMMARY:Sonntag\, 09.10.2022 ab 14.30 Uhr Disco im Musikpark Ludwigshafen
DESCRIPTION:Sonntag\, 09.10.2022 ab 14.30 Uhr Disco im Musikpark Ludwigshafen
URL:http://www.seniorenrat-ludwigshafen.de/event/sonntag-09-10-2022-ab-14-30-uhr-disco-im-musikpark-ludwigshafen/
LOCATION:Musikpark Ludwigshafen\, Berliner Platz 2\, Ludwigshafen\, Rheinland-Pfalz\, 67059\, Deutschland
ORGANIZER;CN="Seniorenrat%20Ludwigshafen":MAILTO:info@seniorenrat-ludwigshafen.de
END:VEVENT
END:VCALENDAR