BEGIN:VCALENDAR
VERSION:2.0
PRODID:-//Seniorenrat der Stadt Ludwigshafen e.V. - ECPv5.8.2//NONSGML v1.0//EN
CALSCALE:GREGORIAN
METHOD:PUBLISH
X-WR-CALNAME:Seniorenrat der Stadt Ludwigshafen e.V.
X-ORIGINAL-URL:http://www.seniorenrat-ludwigshafen.de
X-WR-CALDESC:Veranstaltungen für Seniorenrat der Stadt Ludwigshafen e.V.
BEGIN:VTIMEZONE
TZID:Europe/Berlin
BEGIN:DAYLIGHT
TZOFFSETFROM:+0100
TZOFFSETTO:+0200
TZNAME:CEST
DTSTART:20220327T010000
END:DAYLIGHT
BEGIN:STANDARD
TZOFFSETFROM:+0200
TZOFFSETTO:+0100
TZNAME:CET
DTSTART:20221030T010000
END:STANDARD
END:VTIMEZONE
BEGIN:VEVENT
DTSTART;TZID=Europe/Berlin:20221027T140000
DTEND;TZID=Europe/Berlin:20221027T170000
DTSTAMP:20260421T124343
CREATED:20220819T134824Z
LAST-MODIFIED:20220819T135018Z
UID:1916-1666879200-1666890000@www.seniorenrat-ludwigshafen.de
SUMMARY:"Supernova" Filmfestival der Generationen SWH
DESCRIPTION:Donnerstag 27.10.2022\, “Supernova” Filmfestival der Generationen SWH
URL:http://www.seniorenrat-ludwigshafen.de/event/supernova-filmfestival-der-generationen-swh/
LOCATION:SWH Fabrikstraße\, Schmale Gasse\, Ludwigshafen
END:VEVENT
END:VCALENDAR