BEGIN:VCALENDAR
VERSION:2.0
PRODID:-//Seniorenrat der Stadt Ludwigshafen e.V. - ECPv5.8.2//NONSGML v1.0//EN
CALSCALE:GREGORIAN
METHOD:PUBLISH
X-WR-CALNAME:Seniorenrat der Stadt Ludwigshafen e.V.
X-ORIGINAL-URL:http://www.seniorenrat-ludwigshafen.de
X-WR-CALDESC:Veranstaltungen für Seniorenrat der Stadt Ludwigshafen e.V.
BEGIN:VTIMEZONE
TZID:Europe/Berlin
BEGIN:DAYLIGHT
TZOFFSETFROM:+0100
TZOFFSETTO:+0200
TZNAME:CEST
DTSTART:20220327T010000
END:DAYLIGHT
BEGIN:STANDARD
TZOFFSETFROM:+0200
TZOFFSETTO:+0100
TZNAME:CET
DTSTART:20221030T010000
END:STANDARD
END:VTIMEZONE
BEGIN:VEVENT
DTSTART;TZID=Europe/Berlin:20221110T143000
DTEND;TZID=Europe/Berlin:20221110T163000
DTSTAMP:20260421T122749
CREATED:20220823T203054Z
LAST-MODIFIED:20220825T100208Z
UID:1935-1668090600-1668097800@www.seniorenrat-ludwigshafen.de
SUMMARY:Weißt Du noch - Weißt Du schon
DESCRIPTION:Unterhaltsames und Interessantes von “Früher” aus der “Guten\, alten Zeit” und Wissenswertes von Heute
URL:http://www.seniorenrat-ludwigshafen.de/event/weisst-du-noch-weisst-du-schon/
LOCATION:Altes Straßenbahn-Depot Ludwigshafen\, Rheinallee\, Ludwigshafen am Rhein\, 67061
END:VEVENT
END:VCALENDAR